Package: censcyt Version: 1.17.0 Command: /Library/Frameworks/R.framework/Resources/bin/R CMD INSTALL censcyt StartedAt: 2025-10-05 15:14:39 -0400 (Sun, 05 Oct 2025) EndedAt: 2025-10-05 15:14:53 -0400 (Sun, 05 Oct 2025) EllapsedTime: 14.0 seconds RetCode: 0 Status: OK