Package: censcyt Version: 1.17.0 Command: /Library/Frameworks/R.framework/Resources/bin/R CMD build --keep-empty-dirs --no-resave-data censcyt StartedAt: 2025-10-06 15:53:19 -0400 (Mon, 06 Oct 2025) EndedAt: 2025-10-06 15:53:52 -0400 (Mon, 06 Oct 2025) EllapsedTime: 33.4 seconds RetCode: 0 Status: OK PackageFile: censcyt_1.17.0.tar.gz PackageFileSize: 510.5 KiB