Package: cellxgenedp Version: 1.13.0 Command: /home/biocbuild/R/R/bin/R CMD check --install=check:cellxgenedp.install-out.txt --library=/home/biocbuild/R/R/site-library --no-vignettes --timings cellxgenedp_1.13.0.tar.gz StartedAt: 2025-06-27 05:30:53 -0000 (Fri, 27 Jun 2025) EndedAt: 2025-06-27 05:34:42 -0000 (Fri, 27 Jun 2025) EllapsedTime: 229.2 seconds RetCode: 1 Status: ERROR CheckDir: cellxgenedp.Rcheck Warnings: NA