Package: cellxgenedp Version: 1.13.0 Command: F:\biocbuild\bbs-3.22-bioc\R\bin\R.exe CMD INSTALL cellxgenedp StartedAt: 2025-07-07 15:27:55 -0400 (Mon, 07 Jul 2025) EndedAt: 2025-07-07 15:28:16 -0400 (Mon, 07 Jul 2025) EllapsedTime: 20.4 seconds RetCode: 0 Status: OK