Package: cellxgenedp Version: 1.13.0 Command: rm -rf cellxgenedp.buildbin-libdir && mkdir cellxgenedp.buildbin-libdir && F:\biocbuild\bbs-3.22-bioc\R\bin\R.exe CMD INSTALL --build --library=cellxgenedp.buildbin-libdir cellxgenedp_1.13.0.tar.gz StartedAt: 2025-07-04 08:39:04 -0400 (Fri, 04 Jul 2025) EndedAt: 2025-07-04 08:39:25 -0400 (Fri, 04 Jul 2025) EllapsedTime: 20.3 seconds RetCode: 0 Status: OK PackageFile: cellxgenedp_1.13.0.zip PackageFileSize: 513.5 KiB