Package: cellxgenedp Version: 1.13.0 Command: /home/biocbuild/bbs-3.22-bioc/R/bin/R CMD INSTALL cellxgenedp StartedAt: 2025-07-02 15:13:09 -0400 (Wed, 02 Jul 2025) EndedAt: 2025-07-02 15:13:16 -0400 (Wed, 02 Jul 2025) EllapsedTime: 7.2 seconds RetCode: 0 Status: OK