Package: cellxgenedp Version: 1.13.0 Command: /home/biocbuild/bbs-3.22-bioc/R/bin/R CMD check --install=check:cellxgenedp.install-out.txt --library=/home/biocbuild/bbs-3.22-bioc/R/site-library --timings cellxgenedp_1.13.0.tar.gz StartedAt: 2025-07-02 20:56:21 -0400 (Wed, 02 Jul 2025) EndedAt: 2025-07-02 20:59:45 -0400 (Wed, 02 Jul 2025) EllapsedTime: 204.2 seconds RetCode: 0 Status: OK CheckDir: cellxgenedp.Rcheck Warnings: 0