Package: cellxgenedp Version: 1.13.0 Command: /home/biocbuild/bbs-3.22-bioc/R/bin/R CMD build --keep-empty-dirs --no-resave-data --md5 cellxgenedp StartedAt: 2025-07-02 16:42:28 -0400 (Wed, 02 Jul 2025) EndedAt: 2025-07-02 16:43:54 -0400 (Wed, 02 Jul 2025) EllapsedTime: 86.1 seconds RetCode: 0 Status: OK PackageFile: cellxgenedp_1.13.0.tar.gz PackageFileSize: 472.9 KiB