Package: cellxgenedp Version: 1.13.0 Command: /Library/Frameworks/R.framework/Resources/bin/R CMD check --install=check:cellxgenedp.install-out.txt --library=/Library/Frameworks/R.framework/Resources/library --no-vignettes --timings cellxgenedp_1.13.0.tar.gz StartedAt: 2025-06-27 19:31:39 -0400 (Fri, 27 Jun 2025) EndedAt: 2025-06-27 19:34:21 -0400 (Fri, 27 Jun 2025) EllapsedTime: 161.9 seconds RetCode: 0 Status: OK CheckDir: cellxgenedp.Rcheck Warnings: 0