Package: cellxgenedp Version: 1.13.0 Command: /Library/Frameworks/R.framework/Resources/bin/R CMD check --install=check:cellxgenedp.install-out.txt --library=/Library/Frameworks/R.framework/Resources/library --no-vignettes --timings cellxgenedp_1.13.0.tar.gz StartedAt: 2025-06-26 18:26:01 -0400 (Thu, 26 Jun 2025) EndedAt: 2025-06-26 18:26:54 -0400 (Thu, 26 Jun 2025) EllapsedTime: 52.7 seconds RetCode: 0 Status: OK CheckDir: cellxgenedp.Rcheck Warnings: 0