Package: cellxgenedp Version: 1.13.0 Command: /Library/Frameworks/R.framework/Resources/bin/R CMD build --keep-empty-dirs --no-resave-data cellxgenedp StartedAt: 2025-07-02 15:50:32 -0400 (Wed, 02 Jul 2025) EndedAt: 2025-07-02 15:50:44 -0400 (Wed, 02 Jul 2025) EllapsedTime: 12.1 seconds RetCode: 1 Status: ERROR PackageFile: None PackageFileSize: NA