Package: cellscape Version: 1.33.0 Command: F:\biocbuild\bbs-3.22-bioc\R\bin\R.exe CMD check --no-multiarch --install=check:cellscape.install-out.txt --library=F:\biocbuild\bbs-3.22-bioc\R\library --no-vignettes --timings cellscape_1.33.0.tar.gz StartedAt: 2025-07-21 00:17:56 -0400 (Mon, 21 Jul 2025) EndedAt: 2025-07-21 00:18:38 -0400 (Mon, 21 Jul 2025) EllapsedTime: 42.4 seconds RetCode: 0 Status: OK CheckDir: cellscape.Rcheck Warnings: 0