Package: cellscape Version: 1.33.0 Command: chmod a+r cellscape -R && F:\biocbuild\bbs-3.22-bioc\R\bin\R.exe CMD build --keep-empty-dirs --no-resave-data cellscape StartedAt: 2025-07-20 17:52:42 -0400 (Sun, 20 Jul 2025) EndedAt: 2025-07-20 17:53:03 -0400 (Sun, 20 Jul 2025) EllapsedTime: 21.7 seconds RetCode: 0 Status: OK PackageFile: cellscape_1.33.0.tar.gz PackageFileSize: 898.4 KiB