Package: cellscape Version: 1.33.0 Command: rm -rf cellscape.buildbin-libdir && mkdir cellscape.buildbin-libdir && F:\biocbuild\bbs-3.22-bioc\R\bin\R.exe CMD INSTALL --build --library=cellscape.buildbin-libdir cellscape_1.33.0.tar.gz StartedAt: 2025-07-21 08:43:10 -0400 (Mon, 21 Jul 2025) EndedAt: 2025-07-21 08:43:24 -0400 (Mon, 21 Jul 2025) EllapsedTime: 14.9 seconds RetCode: 0 Status: OK PackageFile: cellscape_1.33.0.zip PackageFileSize: 879.1 KiB