Package: cellscape Version: 1.33.0 Command: /Library/Frameworks/R.framework/Resources/bin/R CMD INSTALL cellscape StartedAt: 2025-07-14 15:05:36 -0400 (Mon, 14 Jul 2025) EndedAt: 2025-07-14 15:05:41 -0400 (Mon, 14 Jul 2025) EllapsedTime: 4.9 seconds RetCode: 0 Status: OK