Package: cellmig Version: 0.99.16 Command: /home/biocbuild/bbs-3.22-bioc/R/bin/R CMD INSTALL cellmig StartedAt: 2025-10-05 15:09:58 -0400 (Sun, 05 Oct 2025) EndedAt: 2025-10-05 15:13:08 -0400 (Sun, 05 Oct 2025) EllapsedTime: 190.8 seconds RetCode: 0 Status: OK