Package: cellmig Version: 0.99.16 Command: /home/biocbuild/bbs-3.22-bioc/R/bin/R CMD check --install=check:cellmig.install-out.txt --library=/home/biocbuild/bbs-3.22-bioc/R/site-library --timings cellmig_0.99.16.tar.gz StartedAt: 2025-10-05 22:09:25 -0400 (Sun, 05 Oct 2025) EndedAt: 2025-10-05 22:25:54 -0400 (Sun, 05 Oct 2025) EllapsedTime: 989.2 seconds RetCode: 0 Status: OK CheckDir: cellmig.Rcheck Warnings: 0