Package: cellmig Version: 0.99.16 Command: /Library/Frameworks/R.framework/Resources/bin/R CMD INSTALL cellmig StartedAt: 2025-10-06 15:12:13 -0400 (Mon, 06 Oct 2025) EndedAt: 2025-10-06 15:15:01 -0400 (Mon, 06 Oct 2025) EllapsedTime: 167.7 seconds RetCode: 0 Status: OK