Package: cellmig Version: 0.99.16 Command: /Library/Frameworks/R.framework/Resources/bin/R CMD check --install=check:cellmig.install-out.txt --library=/Library/Frameworks/R.framework/Resources/library --no-vignettes --timings cellmig_0.99.16.tar.gz StartedAt: 2025-10-06 20:25:52 -0400 (Mon, 06 Oct 2025) EndedAt: 2025-10-06 20:36:13 -0400 (Mon, 06 Oct 2025) EllapsedTime: 620.4 seconds RetCode: 0 Status: OK CheckDir: cellmig.Rcheck Warnings: 0