Package: cellmig Version: 0.99.16 Command: rm -rf cellmig.buildbin-libdir && mkdir cellmig.buildbin-libdir && /Users/biocbuild/BBS/utils/build-universal.sh cellmig_0.99.16.tar.gz /Library/Frameworks/R.framework/Resources/bin/R cellmig.buildbin-libdir StartedAt: 2025-10-07 02:01:31 -0400 (Tue, 07 Oct 2025) EndedAt: 2025-10-07 02:05:06 -0400 (Tue, 07 Oct 2025) EllapsedTime: 214.9 seconds RetCode: 0 Status: OK PackageFile: cellmig_0.99.16.tgz PackageFileSize: 6.012 MiB