Package: cellity Version: 1.37.0 Command: /home/biocbuild/R/R/bin/R CMD build --keep-empty-dirs --no-resave-data cellity StartedAt: 2025-07-14 22:27:02 -0000 (Mon, 14 Jul 2025) EndedAt: 2025-07-14 22:28:34 -0000 (Mon, 14 Jul 2025) EllapsedTime: 92.0 seconds RetCode: 0 Status: OK PackageFile: cellity_1.37.0.tar.gz PackageFileSize: 1.132 MiB