Package: cellity Version: 1.37.0 Command: F:\biocbuild\bbs-3.22-bioc\R\bin\R.exe CMD check --no-multiarch --install=check:cellity.install-out.txt --library=F:\biocbuild\bbs-3.22-bioc\R\library --no-vignettes --timings cellity_1.37.0.tar.gz StartedAt: 2025-08-15 01:27:53 -0400 (Fri, 15 Aug 2025) EndedAt: 2025-08-15 01:31:28 -0400 (Fri, 15 Aug 2025) EllapsedTime: 215.3 seconds RetCode: 0 Status: OK CheckDir: cellity.Rcheck Warnings: 0