Package: cellity Version: 1.37.0 Command: rm -rf cellity.buildbin-libdir && mkdir cellity.buildbin-libdir && F:\biocbuild\bbs-3.22-bioc\R\bin\R.exe CMD INSTALL --build --library=cellity.buildbin-libdir cellity_1.37.0.tar.gz StartedAt: 2025-08-15 09:55:18 -0400 (Fri, 15 Aug 2025) EndedAt: 2025-08-15 09:55:50 -0400 (Fri, 15 Aug 2025) EllapsedTime: 32.1 seconds RetCode: 0 Status: OK PackageFile: cellity_1.37.0.zip PackageFileSize: 1.233 MiB