Package: cellity Version: 1.37.0 Command: /Library/Frameworks/R.framework/Resources/bin/R CMD build --keep-empty-dirs --no-resave-data cellity StartedAt: 2025-10-05 16:20:12 -0400 (Sun, 05 Oct 2025) EndedAt: 2025-10-05 16:21:29 -0400 (Sun, 05 Oct 2025) EllapsedTime: 76.4 seconds RetCode: 0 Status: OK PackageFile: cellity_1.37.0.tar.gz PackageFileSize: 1.244 MiB