Package: cellity Version: 1.37.0 Command: /Library/Frameworks/R.framework/Resources/bin/R CMD check --install=check:cellity.install-out.txt --library=/Library/Frameworks/R.framework/Resources/library --no-vignettes --timings cellity_1.37.0.tar.gz StartedAt: 2025-10-06 18:38:56 -0400 (Mon, 06 Oct 2025) EndedAt: 2025-10-06 18:40:01 -0400 (Mon, 06 Oct 2025) EllapsedTime: 64.8 seconds RetCode: 0 Status: OK CheckDir: cellity.Rcheck Warnings: 0