Package: cellbaseR Version: 1.33.0 Command: F:\biocbuild\bbs-3.22-bioc\R\bin\R.exe CMD check --no-multiarch --install=check:cellbaseR.install-out.txt --library=F:\biocbuild\bbs-3.22-bioc\R\library --no-vignettes --timings cellbaseR_1.33.0.tar.gz StartedAt: 2025-07-03 00:20:37 -0400 (Thu, 03 Jul 2025) EndedAt: 2025-07-03 00:23:10 -0400 (Thu, 03 Jul 2025) EllapsedTime: 152.9 seconds RetCode: 0 Status: OK CheckDir: cellbaseR.Rcheck Warnings: 0