Package: cellbaseR Version: 1.33.0 Command: chmod a+r cellbaseR -R && F:\biocbuild\bbs-3.22-bioc\R\bin\R.exe CMD build --keep-empty-dirs --no-resave-data cellbaseR StartedAt: 2025-07-01 17:50:54 -0400 (Tue, 01 Jul 2025) EndedAt: 2025-07-01 17:52:36 -0400 (Tue, 01 Jul 2025) EllapsedTime: 102.1 seconds RetCode: 0 Status: OK PackageFile: cellbaseR_1.33.0.tar.gz PackageFileSize: 464.5 KiB