Package: cellbaseR Version: 1.33.0 Command: rm -rf cellbaseR.buildbin-libdir && mkdir cellbaseR.buildbin-libdir && F:\biocbuild\bbs-3.22-bioc\R\bin\R.exe CMD INSTALL --build --library=cellbaseR.buildbin-libdir cellbaseR_1.33.0.tar.gz StartedAt: 2025-07-02 08:31:11 -0400 (Wed, 02 Jul 2025) EndedAt: 2025-07-02 08:31:58 -0400 (Wed, 02 Jul 2025) EllapsedTime: 47.7 seconds RetCode: 0 Status: OK PackageFile: cellbaseR_1.33.0.zip PackageFileSize: 721.1 KiB