Package: celda Version: 1.25.0 Command: /home/biocbuild/R/R/bin/R CMD INSTALL celda StartedAt: 2025-07-14 21:16:32 -0000 (Mon, 14 Jul 2025) EndedAt: 2025-07-14 21:18:13 -0000 (Mon, 14 Jul 2025) EllapsedTime: 100.3 seconds RetCode: 0 Status: OK