Package: celda Version: 1.25.0 Command: /home/biocbuild/R/R/bin/R CMD check --install=check:celda.install-out.txt --library=/home/biocbuild/R/R/site-library --no-vignettes --timings celda_1.25.0.tar.gz StartedAt: 2025-07-18 05:07:33 -0000 (Fri, 18 Jul 2025) EndedAt: 2025-07-18 05:19:12 -0000 (Fri, 18 Jul 2025) EllapsedTime: 699.7 seconds RetCode: 0 Status: WARNINGS CheckDir: celda.Rcheck Warnings: 1