Package: celaref Version: 1.27.0 Command: F:\biocbuild\bbs-3.22-bioc\R\bin\R.exe CMD INSTALL celaref StartedAt: 2025-07-24 16:16:45 -0400 (Thu, 24 Jul 2025) EndedAt: 2025-07-24 16:17:45 -0400 (Thu, 24 Jul 2025) EllapsedTime: 59.7 seconds RetCode: 0 Status: OK