Package: ceRNAnetsim Version: 1.21.0 Command: /Library/Frameworks/R.framework/Resources/bin/R CMD INSTALL ceRNAnetsim StartedAt: 2025-07-01 15:23:39 -0400 (Tue, 01 Jul 2025) EndedAt: 2025-07-01 15:24:07 -0400 (Tue, 01 Jul 2025) EllapsedTime: 27.6 seconds RetCode: 0 Status: OK