Package: ceRNAnetsim Version: 1.21.0 Command: /Library/Frameworks/R.framework/Resources/bin/R CMD check --install=check:ceRNAnetsim.install-out.txt --library=/Library/Frameworks/R.framework/Resources/library --no-vignettes --timings ceRNAnetsim_1.21.0.tar.gz StartedAt: 2025-07-01 19:44:58 -0400 (Tue, 01 Jul 2025) EndedAt: 2025-07-01 19:47:20 -0400 (Tue, 01 Jul 2025) EllapsedTime: 142.4 seconds RetCode: 0 Status: OK CheckDir: ceRNAnetsim.Rcheck Warnings: 0