Package: ceRNAnetsim Version: 1.21.0 Command: rm -rf ceRNAnetsim.buildbin-libdir && mkdir ceRNAnetsim.buildbin-libdir && /Users/biocbuild/BBS/utils/build-universal.sh ceRNAnetsim_1.21.0.tar.gz /Library/Frameworks/R.framework/Resources/bin/R ceRNAnetsim.buildbin-libdir StartedAt: 2025-07-02 00:49:37 -0400 (Wed, 02 Jul 2025) EndedAt: 2025-07-02 00:49:49 -0400 (Wed, 02 Jul 2025) EllapsedTime: 11.5 seconds RetCode: 0 Status: OK PackageFile: ceRNAnetsim_1.21.0.tgz PackageFileSize: 2.579 MiB