Package: ccmap Version: 1.35.0 Command: /home/biocbuild/R/R/bin/R CMD INSTALL ccmap StartedAt: 2025-06-30 20:48:10 -0000 (Mon, 30 Jun 2025) EndedAt: 2025-06-30 20:48:30 -0000 (Mon, 30 Jun 2025) EllapsedTime: 19.9 seconds RetCode: 0 Status: OK