Package: ccmap Version: 1.35.0 Command: F:\biocbuild\bbs-3.22-bioc\R\bin\R.exe CMD INSTALL ccmap StartedAt: 2025-07-22 15:43:24 -0400 (Tue, 22 Jul 2025) EndedAt: 2025-07-22 15:43:45 -0400 (Tue, 22 Jul 2025) EllapsedTime: 20.4 seconds RetCode: 0 Status: OK