Package: ccmap Version: 1.35.0 Command: F:\biocbuild\bbs-3.22-bioc\R\bin\R.exe CMD check --no-multiarch --install=check:ccmap.install-out.txt --library=F:\biocbuild\bbs-3.22-bioc\R\library --no-vignettes --timings ccmap_1.35.0.tar.gz StartedAt: 2025-04-18 00:37:12 -0400 (Fri, 18 Apr 2025) EndedAt: 2025-04-18 00:40:22 -0400 (Fri, 18 Apr 2025) EllapsedTime: 189.7 seconds RetCode: 0 Status: WARNINGS CheckDir: ccmap.Rcheck Warnings: 1