Package: ccmap Version: 1.35.0 Command: chmod a+r ccmap -R && F:\biocbuild\bbs-3.22-bioc\R\bin\R.exe CMD build --keep-empty-dirs --no-resave-data ccmap StartedAt: 2025-07-22 17:51:41 -0400 (Tue, 22 Jul 2025) EndedAt: 2025-07-22 17:52:03 -0400 (Tue, 22 Jul 2025) EllapsedTime: 22.0 seconds RetCode: 1 Status: ERROR PackageFile: None PackageFileSize: NA