Package: ccfindR Version: 1.29.0 Command: /home/biocbuild/R/R/bin/R CMD INSTALL ccfindR StartedAt: 2025-06-30 20:35:23 -0000 (Mon, 30 Jun 2025) EndedAt: 2025-06-30 20:36:31 -0000 (Mon, 30 Jun 2025) EllapsedTime: 67.5 seconds RetCode: 0 Status: OK