Package: ccfindR Version: 1.29.0 Command: /home/biocbuild/R/R/bin/R CMD check --install=check:ccfindR.install-out.txt --library=/home/biocbuild/R/R/site-library --no-vignettes --timings ccfindR_1.29.0.tar.gz StartedAt: 2025-07-01 05:39:00 -0000 (Tue, 01 Jul 2025) EndedAt: 2025-07-01 05:43:27 -0000 (Tue, 01 Jul 2025) EllapsedTime: 267.3 seconds RetCode: 0 Status: WARNINGS CheckDir: ccfindR.Rcheck Warnings: 1