Package: ccfindR Version: 1.29.0 Command: F:\biocbuild\bbs-3.22-bioc\R\bin\R.exe CMD INSTALL ccfindR StartedAt: 2025-07-24 16:14:22 -0400 (Thu, 24 Jul 2025) EndedAt: 2025-07-24 16:15:50 -0400 (Thu, 24 Jul 2025) EllapsedTime: 88.0 seconds RetCode: 0 Status: OK