Package: ccfindR Version: 1.29.0 Command: rm -rf ccfindR.buildbin-libdir && mkdir ccfindR.buildbin-libdir && F:\biocbuild\bbs-3.22-bioc\R\bin\R.exe CMD INSTALL --build --library=ccfindR.buildbin-libdir ccfindR_1.29.0.tar.gz StartedAt: 2025-07-25 08:53:05 -0400 (Fri, 25 Jul 2025) EndedAt: 2025-07-25 08:54:22 -0400 (Fri, 25 Jul 2025) EllapsedTime: 76.9 seconds RetCode: 0 Status: OK PackageFile: ccfindR_1.29.0.zip PackageFileSize: 1.572 MiB