Package: ccImpute Version: 1.11.0 Command: /home/biocbuild/R/R/bin/R CMD INSTALL ccImpute StartedAt: 2025-07-21 20:55:23 -0000 (Mon, 21 Jul 2025) EndedAt: 2025-07-21 20:56:21 -0000 (Mon, 21 Jul 2025) EllapsedTime: 57.2 seconds RetCode: 0 Status: OK