Package: ccImpute Version: 1.11.0 Command: /home/biocbuild/R/R/bin/R CMD check --install=check:ccImpute.install-out.txt --library=/home/biocbuild/R/R/site-library --no-vignettes --timings ccImpute_1.11.0.tar.gz StartedAt: 2025-07-22 05:22:58 -0000 (Tue, 22 Jul 2025) EndedAt: 2025-07-22 05:26:36 -0000 (Tue, 22 Jul 2025) EllapsedTime: 218.2 seconds RetCode: 0 Status: WARNINGS CheckDir: ccImpute.Rcheck Warnings: 1