Package: ccImpute Version: 1.11.0 Command: F:\biocbuild\bbs-3.22-bioc\R\bin\R.exe CMD check --no-multiarch --install=check:ccImpute.install-out.txt --library=F:\biocbuild\bbs-3.22-bioc\R\library --no-vignettes --timings ccImpute_1.11.0.tar.gz StartedAt: 2025-07-02 00:10:54 -0400 (Wed, 02 Jul 2025) EndedAt: 2025-07-02 00:15:45 -0400 (Wed, 02 Jul 2025) EllapsedTime: 291.0 seconds RetCode: 0 Status: OK CheckDir: ccImpute.Rcheck Warnings: 0