Package: ccImpute Version: 1.11.0 Command: /home/biocbuild/bbs-3.22-bioc/R/bin/R CMD check --install=check:ccImpute.install-out.txt --library=/home/biocbuild/bbs-3.22-bioc/R/site-library --timings ccImpute_1.11.0.tar.gz StartedAt: 2025-07-04 20:37:47 -0400 (Fri, 04 Jul 2025) EndedAt: 2025-07-04 20:43:51 -0400 (Fri, 04 Jul 2025) EllapsedTime: 363.5 seconds RetCode: 0 Status: OK CheckDir: ccImpute.Rcheck Warnings: 0