Package: ccImpute Version: 1.11.0 Command: /home/biocbuild/bbs-3.22-bioc/R/bin/R CMD build --keep-empty-dirs --no-resave-data --md5 ccImpute StartedAt: 2025-07-04 16:26:42 -0400 (Fri, 04 Jul 2025) EndedAt: 2025-07-04 16:30:20 -0400 (Fri, 04 Jul 2025) EllapsedTime: 218.2 seconds RetCode: 0 Status: OK PackageFile: ccImpute_1.11.0.tar.gz PackageFileSize: 987.3 KiB