Package: cbpManager Version: 1.17.0 Command: /home/biocbuild/R/R/bin/R CMD check --install=check:cbpManager.install-out.txt --library=/home/biocbuild/R/R/site-library --no-vignettes --timings cbpManager_1.17.0.tar.gz StartedAt: 2025-07-15 05:36:54 -0000 (Tue, 15 Jul 2025) EndedAt: 2025-07-15 05:38:06 -0000 (Tue, 15 Jul 2025) EllapsedTime: 72.0 seconds RetCode: 0 Status: WARNINGS CheckDir: cbpManager.Rcheck Warnings: 1