Package: cbpManager Version: 1.17.0 Command: /home/biocbuild/bbs-3.22-bioc/R/bin/R CMD check --install=check:cbpManager.install-out.txt --library=/home/biocbuild/bbs-3.22-bioc/R/site-library --timings cbpManager_1.17.0.tar.gz StartedAt: 2025-07-02 20:50:32 -0400 (Wed, 02 Jul 2025) EndedAt: 2025-07-02 20:51:32 -0400 (Wed, 02 Jul 2025) EllapsedTime: 60.0 seconds RetCode: 0 Status: WARNINGS CheckDir: cbpManager.Rcheck Warnings: 1