Package: cbpManager Version: 1.17.0 Command: /Library/Frameworks/R.framework/Resources/bin/R CMD INSTALL cbpManager StartedAt: 2025-07-01 15:25:52 -0400 (Tue, 01 Jul 2025) EndedAt: 2025-07-01 15:26:14 -0400 (Tue, 01 Jul 2025) EllapsedTime: 22.0 seconds RetCode: 0 Status: OK